BEGIN:VCALENDAR
VERSION:2.0
PRODID:-//Tanzschule Familie Bothe - ECPv6.14.2//NONSGML v1.0//EN
CALSCALE:GREGORIAN
METHOD:PUBLISH
X-WR-CALNAME:Tanzschule Familie Bothe
X-ORIGINAL-URL:https://www.tanzschule-bothe.de
X-WR-CALDESC:Veranstaltungen für Tanzschule Familie Bothe
REFRESH-INTERVAL;VALUE=DURATION:PT1H
X-Robots-Tag:noindex
X-PUBLISHED-TTL:PT1H
BEGIN:VTIMEZONE
TZID:Europe/Berlin
BEGIN:DAYLIGHT
TZOFFSETFROM:+0100
TZOFFSETTO:+0200
TZNAME:CEST
DTSTART:20260329T010000
END:DAYLIGHT
BEGIN:STANDARD
TZOFFSETFROM:+0200
TZOFFSETTO:+0100
TZNAME:CET
DTSTART:20261025T010000
END:STANDARD
END:VTIMEZONE
BEGIN:VEVENT
DTSTART;VALUE=DATE:20260606
DTEND;VALUE=DATE:20260607
DTSTAMP:20260420T103737
CREATED:20260112T130456Z
LAST-MODIFIED:20260112T130456Z
UID:990000441-1780704000-1780790399@www.tanzschule-bothe.de
SUMMARY:Umgangsformenseminar Teil 2
DESCRIPTION:Am 06. Juni treffen wir uns zu einem unserer begehrten\, obligatorischen Seminare für Umgangsformen über aktuelle Etikette und Tischkultur. \nIhr lernt bei einem 4-Gänge-Menü „by doing“\, wie man perfekt speist und die aktuellsten Trends im Kreise Gleichgesinnter korrekt anwendet. Wenn Ihr beruflich erfolgreich sein wollt\, solltet Ihr zusätzlich zu Eurer schulischen und beruflichen Qualifikation unbedingt den letzten Schliff in Bezug auf Umgangsformen beherrschen. \nWeitere Informationen zur Anmeldung folgen!
URL:https://www.tanzschule-bothe.de/event/umgangsformenseminar-teil-2-11/
LOCATION:Meiers Lebenslust\, Osterstraße 64\, Hannover\, 30159\, Deutschland
CATEGORIES:Schülerevents ab 14 Jahre,Umgangsformenseminar
ATTACH;FMTTYPE=image/jpeg:https://www.tanzschule-bothe.de/wp-content/uploads/schuelerevent_neu_2022.jpg
END:VEVENT
END:VCALENDAR